BEGIN:VCALENDAR
VERSION:2.0
PRODID:-//Societatea Ghizilor și Liderilor Montani | UIMLA - ECPv6.15.13//NONSGML v1.0//EN
CALSCALE:GREGORIAN
METHOD:PUBLISH
X-WR-CALNAME:Societatea Ghizilor și Liderilor Montani | UIMLA
X-ORIGINAL-URL:https://ghizimontani.org
X-WR-CALDESC:Evenimente pentru Societatea Ghizilor și Liderilor Montani | UIMLA
REFRESH-INTERVAL;VALUE=DURATION:PT1H
X-Robots-Tag:noindex
X-PUBLISHED-TTL:PT1H
BEGIN:VTIMEZONE
TZID:UTC
BEGIN:STANDARD
TZOFFSETFROM:+0000
TZOFFSETTO:+0000
TZNAME:UTC
DTSTART:20240101T000000
END:STANDARD
END:VTIMEZONE
BEGIN:VEVENT
DTSTART;VALUE=DATE:20250724
DTEND;VALUE=DATE:20250728
DTSTAMP:20260423T154819
CREATED:20250623T195937Z
LAST-MODIFIED:20250627T073211Z
UID:5116-1753315200-1753660799@ghizimontani.org
SUMMARY:Alpii Iulieni – Kamnik
DESCRIPTION:Alpii reprezintă cel mai mare lanț muntos din Europa ei întinzându-se din Franța (zona Monaco) până în Albania.  Parte din acest lanț muntos sunt si Alpii Iulieni ei aflându-se pe teritoriul Sloveniei\, una din cele mai frumoase destinații din Balcani. Subdiviziunea Kamnik ai acestor munți oferă perisaje minunate\, varfuri semețe de peste 2500m și toate acestea la doar 50km depărtare de Liubliana. Mai puțin cunoscuți decât Triglavul acești munți sunt și feriti de afluxul mare de vizitatori.
URL:https://ghizimontani.org/eveniment/alpii-iulieni-kamnik/
LOCATION:Alpii Iulieni
CATEGORIES:Drumetie
ATTACH;FMTTYPE=image/jpeg:https://ghizimontani.org/wp-content/uploads/2025/06/20220725_151527-480x360-1.jpg
END:VEVENT
END:VCALENDAR