BEGIN:VCALENDAR
VERSION:2.0
PRODID:-//Societatea Ghizilor și Liderilor Montani | UIMLA - ECPv6.15.13//NONSGML v1.0//EN
CALSCALE:GREGORIAN
METHOD:PUBLISH
X-WR-CALNAME:Societatea Ghizilor și Liderilor Montani | UIMLA
X-ORIGINAL-URL:https://ghizimontani.org
X-WR-CALDESC:Evenimente pentru Societatea Ghizilor și Liderilor Montani | UIMLA
REFRESH-INTERVAL;VALUE=DURATION:PT1H
X-Robots-Tag:noindex
X-PUBLISHED-TTL:PT1H
BEGIN:VTIMEZONE
TZID:UTC
BEGIN:STANDARD
TZOFFSETFROM:+0000
TZOFFSETTO:+0000
TZNAME:UTC
DTSTART:20240101T000000
END:STANDARD
END:VTIMEZONE
BEGIN:VEVENT
DTSTART;VALUE=DATE:20250819
DTEND;VALUE=DATE:20250823
DTSTAMP:20260423T115423
CREATED:20250626T101239Z
LAST-MODIFIED:20250627T072629Z
UID:5225-1755561600-1755907199@ghizimontani.org
SUMMARY:Padina Outdoor Camp
DESCRIPTION:Vă invităm într-o tabără activă pentru copii iubitori de munte\, unde vom petrece mult timp în natură\, vom învăța despre mersul responsabil pe munte și îi vom iniția pe cei mici în multe activități în aer liber: de la orientare cu busola\, la escaladă\, drumeții și jocuri despre mediu. Învățăm să devenim o echipă\, ne facem prieteni noi și explorăm lumea fascinantă a muntelui alături de ghizi montani autorizați.
URL:https://ghizimontani.org/eveniment/padina-outdoor-camp/
LOCATION:Muntii Bucegi
CATEGORIES:Tabara Outdoor
ATTACH;FMTTYPE=image/jpeg:https://ghizimontani.org/wp-content/uploads/2025/06/padina.jpg
END:VEVENT
END:VCALENDAR