BEGIN:VCALENDAR
VERSION:2.0
PRODID:-//Societatea Ghizilor și Liderilor Montani | UIMLA - ECPv6.15.13//NONSGML v1.0//EN
CALSCALE:GREGORIAN
METHOD:PUBLISH
X-WR-CALNAME:Societatea Ghizilor și Liderilor Montani | UIMLA
X-ORIGINAL-URL:https://ghizimontani.org
X-WR-CALDESC:Evenimente pentru Societatea Ghizilor și Liderilor Montani | UIMLA
REFRESH-INTERVAL;VALUE=DURATION:PT1H
X-Robots-Tag:noindex
X-PUBLISHED-TTL:PT1H
BEGIN:VTIMEZONE
TZID:UTC
BEGIN:STANDARD
TZOFFSETFROM:+0000
TZOFFSETTO:+0000
TZNAME:UTC
DTSTART:20240101T000000
END:STANDARD
END:VTIMEZONE
BEGIN:VEVENT
DTSTART;VALUE=DATE:20250912
DTEND;VALUE=DATE:20250915
DTSTAMP:20260422T070340
CREATED:20250626T101806Z
LAST-MODIFIED:20250627T072240Z
UID:5237-1757635200-1757894399@ghizimontani.org
SUMMARY:Curs cățărare. Măcin. Avansați (nivel 2)
DESCRIPTION:Atelierul de cățărare pe stâncă pentru avansați (nivel 2) se adresează celor care au experiență de cățărare pe stâncă și panou și vor să avanseze în cățărarea cap de coardă pe stâncă\, liber\, artificial și cu protecții mobile.
URL:https://ghizimontani.org/eveniment/curs-catarare-macin-avansati-nivel-2/
LOCATION:Munții Măcin
CATEGORIES:Cățărare,Curs
ATTACH;FMTTYPE=image/jpeg:https://ghizimontani.org/wp-content/uploads/2025/06/banner_01-4-1024x640-1.jpg
END:VEVENT
END:VCALENDAR