BEGIN:VCALENDAR
VERSION:2.0
PRODID:-//Societatea Ghizilor și Liderilor Montani | UIMLA - ECPv6.15.13//NONSGML v1.0//EN
CALSCALE:GREGORIAN
METHOD:PUBLISH
X-ORIGINAL-URL:https://ghizimontani.org
X-WR-CALDESC:Evenimente pentru Societatea Ghizilor și Liderilor Montani | UIMLA
REFRESH-INTERVAL;VALUE=DURATION:PT1H
X-Robots-Tag:noindex
X-PUBLISHED-TTL:PT1H
BEGIN:VTIMEZONE
TZID:UTC
BEGIN:STANDARD
TZOFFSETFROM:+0000
TZOFFSETTO:+0000
TZNAME:UTC
DTSTART:20240101T000000
END:STANDARD
END:VTIMEZONE
BEGIN:VEVENT
DTSTART;VALUE=DATE:20250703
DTEND;VALUE=DATE:20250707
DTSTAMP:20260424T101921
CREATED:20250626T101531Z
LAST-MODIFIED:20250627T073518Z
UID:5229-1751500800-1751846399@ghizimontani.org
SUMMARY:Curs inițiere carpatism (scrambling)
DESCRIPTION:Cursul de instruire în carpatism se adresează persoanelor care vor să meargă pe munte în siguranţă\, în afara potecilor amenajate de drumeție\, fără mari aspiraţii pentru căţărare pe stâncă.
URL:https://ghizimontani.org/eveniment/curs-initiere-carpatism-scrambling/
LOCATION:Muntii Piatra Craiului
CATEGORIES:Carpatism,Curs
ATTACH;FMTTYPE=image/jpeg:https://ghizimontani.org/wp-content/uploads/2025/06/banner_curs-carpatism-1024x640-1.jpg
END:VEVENT
END:VCALENDAR